BEGIN:VCALENDAR
VERSION:2.0
PRODID:-//Marxist Education Project - ECPv6.15.20//NONSGML v1.0//EN
CALSCALE:GREGORIAN
METHOD:PUBLISH
X-WR-CALNAME:Marxist Education Project
X-ORIGINAL-URL:https://marxedproject.org
X-WR-CALDESC:Events for Marxist Education Project
REFRESH-INTERVAL;VALUE=DURATION:PT1H
X-Robots-Tag:noindex
X-PUBLISHED-TTL:PT1H
BEGIN:VTIMEZONE
TZID:America/Halifax
BEGIN:DAYLIGHT
TZOFFSETFROM:-0400
TZOFFSETTO:-0300
TZNAME:ADT
DTSTART:20150308T060000
END:DAYLIGHT
BEGIN:STANDARD
TZOFFSETFROM:-0300
TZOFFSETTO:-0400
TZNAME:AST
DTSTART:20151101T050000
END:STANDARD
BEGIN:DAYLIGHT
TZOFFSETFROM:-0400
TZOFFSETTO:-0300
TZNAME:ADT
DTSTART:20160313T060000
END:DAYLIGHT
BEGIN:STANDARD
TZOFFSETFROM:-0300
TZOFFSETTO:-0400
TZNAME:AST
DTSTART:20161106T050000
END:STANDARD
BEGIN:DAYLIGHT
TZOFFSETFROM:-0400
TZOFFSETTO:-0300
TZNAME:ADT
DTSTART:20170312T060000
END:DAYLIGHT
BEGIN:STANDARD
TZOFFSETFROM:-0300
TZOFFSETTO:-0400
TZNAME:AST
DTSTART:20171105T050000
END:STANDARD
BEGIN:DAYLIGHT
TZOFFSETFROM:-0400
TZOFFSETTO:-0300
TZNAME:ADT
DTSTART:20180311T060000
END:DAYLIGHT
BEGIN:STANDARD
TZOFFSETFROM:-0300
TZOFFSETTO:-0400
TZNAME:AST
DTSTART:20181104T050000
END:STANDARD
END:VTIMEZONE
BEGIN:VEVENT
DTSTART;TZID=America/Halifax:20170209T193000
DTEND;TZID=America/Halifax:20170209T213000
DTSTAMP:20260421T180720
CREATED:20161127T150744Z
LAST-MODIFIED:20170205T035015Z
UID:10003752-1486668600-1486675800@marxedproject.org
SUMMARY:African Literature: Colonialism\, Liberation\, Disillusionment
DESCRIPTION:We will meet for nine more weeks\nThursdays\, February 9 through April 6\, 7:30 to 9:30 pm\nOrganized by Ibrahim Diallo of the Indigenous People’s History and Literature Group \nOnce you allow yourself to identify with the people in a story\, then you might begin to see yourself in that story even if on the surface it’s far removed from your situation. … this is one great thing that literature can do – it can make us identify with situations and people far away. If it does that\, it’s a miracle.   –Chinua Achebe \nWith the reading of novels by Ousmane Sembene (Senegal)\, Tayeb Salih (Sudan)\, Chimamanda Ngozi Adichie (Nigeria) and Ngugu wa Thiong’o (Kenya)\, we examine four different areas of Africa as the peoples there emerge from European colonization. We witness the struggles of workers on strike before their full independence\, anti-colonial resistance spanning from Mount Kenya to academic circles in London. As nations become independent we discover new and recycled forms of oppression\, exploitation and war. In the midst of disillusionment\, we see resolve and signs of what remains possible. \nLes Bouts de Bois de Dieu (God’s Bits of Wood) considered to be Ousmane Sembene’s masterpiece\, rivaled only by Xala. The novel fictionalizes the real-life story of a railroad strike on the Dakar-Niger line that lasted from 1947 to 1948. Though the charismatic and brilliant union spokesman\, Ibrahima Bakayoko\, is the most central figure\, the novel has no true hero except the community itself\, which bands together in the face of hardship and oppression to assert their rights. \nSeason of Migration to the North (Arabic:  موسم الهجرة إلى الشمال ‎‎ Mawsim al-Hiǧra ilā ash-Shamāl) is a classic post-colonial Sudanese novel by the novelist Tayeb Salih. Salih was fluent in both English and Arabic\, but significantly chose to write this novel in Arabic. The novel is a counter-narrative to Heart of Darkness. It was described by Edward Said as one of the 10 great novels in Arabic literature.  \nPetals of Blood by Ngugu wa Thiong’o The novel largely deals with the skepticism of change after Kenya’s liberation from the British Empire\, questioning to what extent free Kenya merely emulates\, and subsequently perpetuates\, the oppression found during its time as a colony. Other themes include the challenging of capitalism\, politics\, and the effects of westernization.  \nHalf of a Yellow Sun\, a novel by Nigerian author Chimamanda Ngozi Adichie\, tells the story of the Biafran War through the perspective of the characters Olanna\, Ugwu\, and Richard. The book jumps between events that took place during the early 1960s and the late 1960s\, when the war took place\, and extends until the end of the war. \nIbrahim Diallo was born in Guinea but has lived in Brooklyn\, New York since his childhood. He has lived\, worked\, studied and/or travelled in nearly a dozen African countries. Ibrahim is one of the initiators of The Indigenous People’s History and Literature Group at The MEP.
URL:https://marxedproject.org/event/african-literature-colonialism-liberation-disillusionment/
LOCATION:United States
ATTACH;FMTTYPE=image/jpeg:https://marxedproject.org/wp-content/uploads/2016/11/AfricanLit_ForSite.jpg
END:VEVENT
BEGIN:VEVENT
DTSTART;TZID=America/Halifax:20161006T193000
DTEND;TZID=America/Halifax:20161006T213000
DTSTAMP:20260421T180720
CREATED:20160824T060247Z
LAST-MODIFIED:20160930T041921Z
UID:10003741-1475782200-1475789400@marxedproject.org
SUMMARY:Contemporary Native American Fiction
DESCRIPTION:Begins October 6 until December 15\, no meeting November 24\n10-week session \nJoin the Indigenous Studies Literature and History Group for a 10-week study of several award-winning contemporary Native American novelists. We will begin with Leslie Marmon Silko’s Ceremony followed by Louise Erdrich’s Plague of Doves and Sherman Alexie’s Indian Killer.\n \nWe will give attention to uniquely Native themes\, such as ceremony and ritual\, land loss and relocation\, rural and urban indigenous differences\, tribal and gender politics\, and what Alexie calls “reservation blues”— rage and survival strategies on the modern-day reservation in response to centuries of occupation\, massacre\, and corporate take-over. Literary criticism by Native scholars Vine Deloria\, Jr. and Paula Gunn Allen will be provided for context. Participants are encouraged to share favorite Native poems to complement the primary texts.   \nThe Indigenous Peoples’ Literature and History Group began following a stirring presentation by Roxanne Dunbar-Ortiz September of 2014. Her pioneering work\, An Indigenous Peoples’ History of the United States\, rightly condemns the history of the colonial setter state that the US was as founded and remains. The means by which capital inherently forms colonial settler states that depend upon the relentless exploitation and removal of indigenous peoples of North America and other continents of the world has formed the basis of our various thematic studies.
URL:https://marxedproject.org/event/contemporary-native-american-fiction/
LOCATION:United States
ATTACH;FMTTYPE=image/jpeg:https://marxedproject.org/wp-content/uploads/2016/08/IndigContempoLit_ForSite.jpg
END:VEVENT
END:VCALENDAR