BEGIN:VCALENDAR
VERSION:2.0
PRODID:-//Marxist Education Project - ECPv6.15.20//NONSGML v1.0//EN
CALSCALE:GREGORIAN
METHOD:PUBLISH
X-ORIGINAL-URL:https://marxedproject.org
X-WR-CALDESC:Events for Marxist Education Project
REFRESH-INTERVAL;VALUE=DURATION:PT1H
X-Robots-Tag:noindex
X-PUBLISHED-TTL:PT1H
BEGIN:VTIMEZONE
TZID:America/New_York
BEGIN:DAYLIGHT
TZOFFSETFROM:-0500
TZOFFSETTO:-0400
TZNAME:EDT
DTSTART:20240310T070000
END:DAYLIGHT
BEGIN:STANDARD
TZOFFSETFROM:-0400
TZOFFSETTO:-0500
TZNAME:EST
DTSTART:20241103T060000
END:STANDARD
BEGIN:DAYLIGHT
TZOFFSETFROM:-0500
TZOFFSETTO:-0400
TZNAME:EDT
DTSTART:20250309T070000
END:DAYLIGHT
BEGIN:STANDARD
TZOFFSETFROM:-0400
TZOFFSETTO:-0500
TZNAME:EST
DTSTART:20251102T060000
END:STANDARD
BEGIN:DAYLIGHT
TZOFFSETFROM:-0500
TZOFFSETTO:-0400
TZNAME:EDT
DTSTART:20260308T070000
END:DAYLIGHT
BEGIN:STANDARD
TZOFFSETFROM:-0400
TZOFFSETTO:-0500
TZNAME:EST
DTSTART:20261101T060000
END:STANDARD
END:VTIMEZONE
BEGIN:VEVENT
DTSTART;TZID=America/New_York:20250222T140000
DTEND;TZID=America/New_York:20250222T153000
DTSTAMP:20260421T094238
CREATED:20250204T212333Z
LAST-MODIFIED:20250425T211813Z
UID:10008333-1740232800-1740238200@marxedproject.org
SUMMARY:Bertolt Brecht's Anti-Capitalist Aesthetics
DESCRIPTION:A video of this February 22\, 2025\, event is available on the MEP’s YouTube channel. \nPresenting Bertolt Brecht’s Adaptations and Anti-capitalist Aesthetics Today\, a new book by Anthony Squiers. The author will provide an overview of Brecht’s revolutionary Marxist aesthetic and examine its usefulness as a weapon in today’s struggles. \nSquiers’s book\, published by Brill\, examines Brecht’s theory and method of adaptation\, using four key Brechtian concepts: Fabel\, gestus\, estrangement effects\, and historicizing. Using that framework\, it analyzes four Brechtian adaptations: The Tutor\, Don Juan\, “Socrates Wounded\,” and Kriegsfibel\, concluding that Brecht is useful for anti-capitalist aesthetics today because through him one can foster a new consciousness which enables the creation of better social conditions. The book is of value to theatrical practitioners\, artists\, and theorists. \nAnthony Squiers is a faculty member at AMDA College of the Performing Arts and co-editor of E-CIBS\, the performance journal of the International Brecht Society. He is author of An Introduction to the Social and Political Philosophy of Bertolt Brecht.
URL:https://marxedproject.org/event/bertolt-brechts-anti-capitalist-aesthetics/
LOCATION:Recording available on YouTube
CATEGORIES:Alienation,Anti-capitalist art,Art and politics,Cultural Resistance,Radical Literature,Seminars and Talks,Winter 25
ATTACH;FMTTYPE=image/png:https://marxedproject.org/wp-content/uploads/2025/02/web-image.png
END:VEVENT
END:VCALENDAR