BEGIN:VCALENDAR
VERSION:2.0
PRODID:-//Marxist Education Project - ECPv6.15.20//NONSGML v1.0//EN
CALSCALE:GREGORIAN
METHOD:PUBLISH
X-ORIGINAL-URL:https://marxedproject.org
X-WR-CALDESC:Events for Marxist Education Project
REFRESH-INTERVAL;VALUE=DURATION:PT1H
X-Robots-Tag:noindex
X-PUBLISHED-TTL:PT1H
BEGIN:VTIMEZONE
TZID:America/New_York
BEGIN:DAYLIGHT
TZOFFSETFROM:-0500
TZOFFSETTO:-0400
TZNAME:EDT
DTSTART:20240310T070000
END:DAYLIGHT
BEGIN:STANDARD
TZOFFSETFROM:-0400
TZOFFSETTO:-0500
TZNAME:EST
DTSTART:20241103T060000
END:STANDARD
BEGIN:DAYLIGHT
TZOFFSETFROM:-0500
TZOFFSETTO:-0400
TZNAME:EDT
DTSTART:20250309T070000
END:DAYLIGHT
BEGIN:STANDARD
TZOFFSETFROM:-0400
TZOFFSETTO:-0500
TZNAME:EST
DTSTART:20251102T060000
END:STANDARD
BEGIN:DAYLIGHT
TZOFFSETFROM:-0500
TZOFFSETTO:-0400
TZNAME:EDT
DTSTART:20260308T070000
END:DAYLIGHT
BEGIN:STANDARD
TZOFFSETFROM:-0400
TZOFFSETTO:-0500
TZNAME:EST
DTSTART:20261101T060000
END:STANDARD
END:VTIMEZONE
BEGIN:VEVENT
DTSTART;TZID=America/New_York:20250205T140000
DTEND;TZID=America/New_York:20250205T153000
DTSTAMP:20260421T094203
CREATED:20240903T212329Z
LAST-MODIFIED:20250221T170719Z
UID:10008312-1738764000-1738769400@marxedproject.org
SUMMARY:Henri Lefebvre’s Critique of Everyday Life
DESCRIPTION:Written in three volumes over thirty-five years\, Henri Lefebvre’s Critique of Everyday Life is a major manifesto of humanist Marxism\, and a clarion call for revolutionary praxis through sustained critique of daily living. “Lefebvre pushed philosophy out into the streets\,” the critic McKenzie Wark has written; his work has influenced fields as diverse as sociology\, cultural studies\, architecture and urban planning\, as well as movements including the Situationist International and the activists of May 1968. \nThe suggested text for this open-ended reading group is the three-volume Critique of Everyday Life\, available in paperback or e-book from Verso Books. No previous knowledge of Marxism or Henri Lefebvre’s work is required to participate. \nConvening this reading group\, Steve Knight has been involved as both a participant and reading group co-leader with the MEP since 2016. He is a former university literature and writing instructor\, and has also worked in finance. \nThe group will meet weekly on Wednesdays from 2-3:30pm US ET\, beginning February 5\, 2025. There is no fee for this online reading group – RSVP below if you wish to attend and we will send you the Zoom link. A suggested donation of $50 or whatever amount you can afford is welcome and appreciated.
URL:https://marxedproject.org/event/critique-everyday-life/
LOCATION:Online Event – Zoom Meeting
CATEGORIES:Classes/Events,Multi-session Classes
ATTACH;FMTTYPE=image/png:https://marxedproject.org/wp-content/uploads/2024/09/lefebvre1.png
END:VEVENT
END:VCALENDAR