BEGIN:VCALENDAR
VERSION:2.0
PRODID:-//Marxist Education Project - ECPv6.15.20//NONSGML v1.0//EN
CALSCALE:GREGORIAN
METHOD:PUBLISH
X-ORIGINAL-URL:https://marxedproject.org
X-WR-CALDESC:Events for Marxist Education Project
REFRESH-INTERVAL;VALUE=DURATION:PT1H
X-Robots-Tag:noindex
X-PUBLISHED-TTL:PT1H
BEGIN:VTIMEZONE
TZID:America/New_York
BEGIN:DAYLIGHT
TZOFFSETFROM:-0500
TZOFFSETTO:-0400
TZNAME:EDT
DTSTART:20230312T070000
END:DAYLIGHT
BEGIN:STANDARD
TZOFFSETFROM:-0400
TZOFFSETTO:-0500
TZNAME:EST
DTSTART:20231105T060000
END:STANDARD
BEGIN:DAYLIGHT
TZOFFSETFROM:-0500
TZOFFSETTO:-0400
TZNAME:EDT
DTSTART:20240310T070000
END:DAYLIGHT
BEGIN:STANDARD
TZOFFSETFROM:-0400
TZOFFSETTO:-0500
TZNAME:EST
DTSTART:20241103T060000
END:STANDARD
BEGIN:DAYLIGHT
TZOFFSETFROM:-0500
TZOFFSETTO:-0400
TZNAME:EDT
DTSTART:20250309T070000
END:DAYLIGHT
BEGIN:STANDARD
TZOFFSETFROM:-0400
TZOFFSETTO:-0500
TZNAME:EST
DTSTART:20251102T060000
END:STANDARD
END:VTIMEZONE
BEGIN:VTIMEZONE
TZID:America/New_York
BEGIN:DAYLIGHT
TZOFFSETFROM:-0500
TZOFFSETTO:-0400
TZNAME:EDT
DTSTART:20230312T070000
END:DAYLIGHT
BEGIN:STANDARD
TZOFFSETFROM:-0400
TZOFFSETTO:-0500
TZNAME:EST
DTSTART:20231105T060000
END:STANDARD
BEGIN:DAYLIGHT
TZOFFSETFROM:-0500
TZOFFSETTO:-0400
TZNAME:EDT
DTSTART:20240310T070000
END:DAYLIGHT
BEGIN:STANDARD
TZOFFSETFROM:-0400
TZOFFSETTO:-0500
TZNAME:EST
DTSTART:20241103T060000
END:STANDARD
BEGIN:DAYLIGHT
TZOFFSETFROM:-0500
TZOFFSETTO:-0400
TZNAME:EDT
DTSTART:20250309T070000
END:DAYLIGHT
BEGIN:STANDARD
TZOFFSETFROM:-0400
TZOFFSETTO:-0500
TZNAME:EST
DTSTART:20251102T060000
END:STANDARD
END:VTIMEZONE
BEGIN:VEVENT
DTSTART;TZID=America/New_York:20241106T183000
DTEND;TZID=America/New_York:20241106T200000
DTSTAMP:20260421T090538
CREATED:20241013T150047Z
LAST-MODIFIED:20241104T235015Z
UID:10008322-1730917800-1730923200@marxedproject.org
SUMMARY:Conversations on the US Elections - What happens next?
DESCRIPTION:Join us online on Wednesday\, November 6 at 6:30 pm US ET for a first-impressions conversation on whatever results are known of the 2024 US elections. We will not know everything; many things will play out over the months that follow. We will know some things that have already taken shape. We can ask what will governing look like\, what new shapes may fascism take\, what directions will capitalism take\, and how resistance will evolve. What does the election mean for climate struggle\, Palestine solidarity\, reproductive freedom\, challenging the carceral state? \nRecent MEP study groups and events have taken on these and related questions. We will bring those studies to bear on these questions\, and bring to bear your participation in these struggles as well. \nJoin us for this open-ended conversation about the evolving US political conjuncture now shaping the November elections. We will also introduce a new study group beginning in November that will examine the historical roots of American fascism to better understand its threat today and the work that lies ahead. \nPlease RSVP below and we will send you a Zoom link to join the conversation.\nA donation of $5 or more will help support the work of the MEP. \nHere are some items we’ve run across about the elections and the present moment which you might find useful.
URL:https://marxedproject.org/event/conversations-on-the-us-elections-what-happens-next/
LOCATION:Online Event – Zoom Meeting
CATEGORIES:Classes/Events,featured
ATTACH;FMTTYPE=image/png:https://marxedproject.org/wp-content/uploads/2024/09/2024-demonstration.png
END:VEVENT
BEGIN:VEVENT
DTSTART;TZID=America/New_York:20241109T110000
DTEND;TZID=America/New_York:20241109T130000
DTSTAMP:20260421T090538
CREATED:20240616T120204Z
LAST-MODIFIED:20241108T113729Z
UID:10008250-1731150000-1731157200@marxedproject.org
SUMMARY:Studies in Marx's Capital
DESCRIPTION:Following up on the MEP’s long-running study of Karl Marx’s Grundrisse\, this group has been reading closely and discussing Marx’s Theories of Surplus Value and related articles and books analyzing and amplifying the three volumes of Marx’s Capital.  At present (November 2024) we are completing a study of  capitalist landholding and ground rent. Future readings may include Mute Compulsion: A Marxist Theory of the Economic Power of Capital\, by Søren Mau\, and The Automatic Fetish: The Law of Value in Marx’s Capital\, by Beverley Best. \nRSVP below if you wish to join this ongoing study group and we will send you the Zoom link. A suggested donation of $50 or whatever amount you can afford is welcome and appreciated.
URL:https://marxedproject.org/event/theories-surplus-value-4/
LOCATION:Online Event – Zoom Meeting
CATEGORIES:Accumulation of Capital,Capital Studies,Classes/Events,historical materialism,Money,Political Economy,Science and Method,Summer24
ATTACH;FMTTYPE=image/png:https://marxedproject.org/wp-content/uploads/2023/08/web-16x9-2.png
ORGANIZER;CN="Capital Studies Group":MAILTO:info@marxedproject.org
END:VEVENT
END:VCALENDAR