BEGIN:VCALENDAR
VERSION:2.0
PRODID:-//Marxist Education Project - ECPv6.15.20//NONSGML v1.0//EN
CALSCALE:GREGORIAN
METHOD:PUBLISH
X-ORIGINAL-URL:https://marxedproject.org
X-WR-CALDESC:Events for Marxist Education Project
REFRESH-INTERVAL;VALUE=DURATION:PT1H
X-Robots-Tag:noindex
X-PUBLISHED-TTL:PT1H
BEGIN:VTIMEZONE
TZID:America/New_York
BEGIN:DAYLIGHT
TZOFFSETFROM:-0500
TZOFFSETTO:-0400
TZNAME:EDT
DTSTART:20230312T070000
END:DAYLIGHT
BEGIN:STANDARD
TZOFFSETFROM:-0400
TZOFFSETTO:-0500
TZNAME:EST
DTSTART:20231105T060000
END:STANDARD
BEGIN:DAYLIGHT
TZOFFSETFROM:-0500
TZOFFSETTO:-0400
TZNAME:EDT
DTSTART:20240310T070000
END:DAYLIGHT
BEGIN:STANDARD
TZOFFSETFROM:-0400
TZOFFSETTO:-0500
TZNAME:EST
DTSTART:20241103T060000
END:STANDARD
BEGIN:DAYLIGHT
TZOFFSETFROM:-0500
TZOFFSETTO:-0400
TZNAME:EDT
DTSTART:20250309T070000
END:DAYLIGHT
BEGIN:STANDARD
TZOFFSETFROM:-0400
TZOFFSETTO:-0500
TZNAME:EST
DTSTART:20251102T060000
END:STANDARD
END:VTIMEZONE
BEGIN:VTIMEZONE
TZID:America/New_York
BEGIN:DAYLIGHT
TZOFFSETFROM:-0500
TZOFFSETTO:-0400
TZNAME:EDT
DTSTART:20230312T070000
END:DAYLIGHT
BEGIN:STANDARD
TZOFFSETFROM:-0400
TZOFFSETTO:-0500
TZNAME:EST
DTSTART:20231105T060000
END:STANDARD
BEGIN:DAYLIGHT
TZOFFSETFROM:-0500
TZOFFSETTO:-0400
TZNAME:EDT
DTSTART:20240310T070000
END:DAYLIGHT
BEGIN:STANDARD
TZOFFSETFROM:-0400
TZOFFSETTO:-0500
TZNAME:EST
DTSTART:20241103T060000
END:STANDARD
BEGIN:DAYLIGHT
TZOFFSETFROM:-0500
TZOFFSETTO:-0400
TZNAME:EDT
DTSTART:20250309T070000
END:DAYLIGHT
BEGIN:STANDARD
TZOFFSETFROM:-0400
TZOFFSETTO:-0500
TZNAME:EST
DTSTART:20251102T060000
END:STANDARD
END:VTIMEZONE
BEGIN:VEVENT
DTSTART;TZID=America/New_York:20241013T140000
DTEND;TZID=America/New_York:20241013T153000
DTSTAMP:20260421T050144
CREATED:20240922T184357Z
LAST-MODIFIED:20241021T145935Z
UID:10008319-1728828000-1728833400@marxedproject.org
SUMMARY:Book Talk: On the History of Capitalist 'Reforms'
DESCRIPTION:A recording of this October 13\, 2024\, event is available on the MEP’s YouTube channel. \nGiampaolo Conte presents A History of Capitalist Transformation: A Critique of Liberal-Capitalist Reforms\, just published by Routledge. Since the recent financial crises\, the expression “liberal reform” has come to evoke austerity and economic malaise\, especially for the working classes and a segment of the middle class. Conte’s historical research demonstrates that the chief purpose of such reforms has been to integrate semi-peripheral states into the capitalist world-economy. Rules\, institutions\, attitudes\, and procedures are imposed in accord with the economic and political interests of capitalist élites and hegemonic states – first by Britain\, then by the United States. In all situations\, the velvet glove barely conceals the armored fist. The goals and methods – more or less the same today as 300 years ago – promote the ongoing dissolution of traditional societies in the peripheries of the contemporary world. \n“A fascinating account of state debt as a mechanism in international relations forcing liberal reforms on the capitalist periphery\, doing away with ways of social life in conflict with the requirements of modern capital formation. Contains striking historical material from countries like Egypt and China during Polanyi’s Long Nineteenth Century.” – Wolfgang Streeck\, Max Planck Institute for the Study of Societies \nGiampaolo Conte teaches in Department of Philosophy\, Communication and Performing Arts at the University of Rome 3. He is a Research Associate of ISEM-CNR\, and editorial assistant for The Journal of European Economic History.
URL:https://marxedproject.org/event/book-talk-on-the-history-of-capitalist-reforms/
LOCATION:Recording available on YouTube
CATEGORIES:_Seasons,Accumulation of Capital,American Imperialism,Anti-colonialism,Asia,British Imperialism,Classes/Events,Colonialism,Fall24,featured,History,Imperialism,Modernity,Neoliberal Authoritarianism,Political Economy,Seminars and Talks
ATTACH;FMTTYPE=image/png:https://marxedproject.org/wp-content/uploads/2024/09/conte-web.png
END:VEVENT
BEGIN:VEVENT
DTSTART;TZID=America/New_York:20241019T160000
DTEND;TZID=America/New_York:20241019T180000
DTSTAMP:20260421T050144
CREATED:20240701T114637Z
LAST-MODIFIED:20241013T141645Z
UID:10008285-1729353600-1729360800@marxedproject.org
SUMMARY:Reading Marx's Capital Volume I
DESCRIPTION:Participants in this group are closely reading and discussing Volume I of Karl Marx’s Capital: A Critique of Political Economy. \n \nThe study of Capital has been at the core of the Marxist Education Project since its inception. Every generation involved in struggle since Marx’s time has rediscovered Marx’s sustained effort to describe and explain the origin and trajectory of modern society. \nFor key chapters or sections\, we do a line-by-line reading with commentary and occasional supplemental materials. Participants read other sections on their own\, and we summarize and discuss when we meet. In line with Marx’s own approach in Capital\, we both take it all very seriously and make it fun as well. If you have read Capital before – or if you have never read it – studying it together with us will deepen your understanding of the world today and refresh your political commitments. \nLisa Maya Knauer guides this group\, along with other experienced MEP teachers. Knauer has been involved with Marxist education in New York for her entire adult life\, and has taught a variety of classes at the MEP and its predecessors. Her current activist work focuses on immigrant workers’ rights and indigenous struggles for land and water. In her day job\, she is a tenured radical at a public university. \nThis study group is ongoing until we have read the entire book. At present we are reading Part Seven\, “The Process of Accumulation of Capital.” RSVP below to join the group in progress. There is no registration fee but a suggested donation of $50 or whatever amount you can afford is welcome and appreciated.
URL:https://marxedproject.org/event/reading-marxs-capital-volume-i-2/
LOCATION:Online Event – Zoom Meeting
CATEGORIES:Capital Studies,Classes/Events,Intro to Marxism,Political Economy,Summer24
ATTACH;FMTTYPE=image/jpeg:https://marxedproject.org/wp-content/uploads/2018/12/CapitalAccumulationSite.jpg
ORGANIZER;CN="Capital Studies Group":MAILTO:info@marxedproject.org
END:VEVENT
END:VCALENDAR