BEGIN:VCALENDAR
VERSION:2.0
PRODID:-//Marxist Education Project - ECPv6.15.20//NONSGML v1.0//EN
CALSCALE:GREGORIAN
METHOD:PUBLISH
X-WR-CALNAME:Marxist Education Project
X-ORIGINAL-URL:https://marxedproject.org
X-WR-CALDESC:Events for Marxist Education Project
REFRESH-INTERVAL;VALUE=DURATION:PT1H
X-Robots-Tag:noindex
X-PUBLISHED-TTL:PT1H
BEGIN:VTIMEZONE
TZID:America/Halifax
BEGIN:DAYLIGHT
TZOFFSETFROM:-0400
TZOFFSETTO:-0300
TZNAME:ADT
DTSTART:20200308T060000
END:DAYLIGHT
BEGIN:STANDARD
TZOFFSETFROM:-0300
TZOFFSETTO:-0400
TZNAME:AST
DTSTART:20201101T050000
END:STANDARD
BEGIN:DAYLIGHT
TZOFFSETFROM:-0400
TZOFFSETTO:-0300
TZNAME:ADT
DTSTART:20210314T060000
END:DAYLIGHT
BEGIN:STANDARD
TZOFFSETFROM:-0300
TZOFFSETTO:-0400
TZNAME:AST
DTSTART:20211107T050000
END:STANDARD
BEGIN:DAYLIGHT
TZOFFSETFROM:-0400
TZOFFSETTO:-0300
TZNAME:ADT
DTSTART:20220313T060000
END:DAYLIGHT
BEGIN:STANDARD
TZOFFSETFROM:-0300
TZOFFSETTO:-0400
TZNAME:AST
DTSTART:20221106T050000
END:STANDARD
END:VTIMEZONE
BEGIN:VEVENT
DTSTART;TZID=America/Halifax:20210815T180000
DTEND;TZID=America/Halifax:20210815T200000
DTSTAMP:20260421T112220
CREATED:20210530T204729Z
LAST-MODIFIED:20210815T015315Z
UID:10006956-1629050400-1629057600@marxedproject.org
SUMMARY:Capital\, V1\, Part 2: The Transformation of Money Into Capital
DESCRIPTION:Convened with Sam Salour\nA close reading with the Capital Studies Group convened by Sam Salour • SUNDAYS\, 6:00 – 8:00 PM via Zoom\nBEGINNING JULY 11! We will do a close reading of the chapters in Part Two of Volume I of Capital on “The Transformation of Money Into Capital”. In these chapters Marx introduces the fundamental concepts of capital\,labor power\, surplus value and the valorization process. \nNo prerequisites nor any preparation is required. ADMISSION IS FREE. \ninfo@marxedproject.org for other events and classes. \nThe link for participation: https://ucsb.zoom.us/j/84694992151
URL:https://marxedproject.org/event/capital-v1-part-8-the-so-called-primitive-accumulation-a-closer-reading/2021-08-15/
LOCATION:Online Event – Zoom Meeting
CATEGORIES:Accumulation of Capital,Anti-colonialism,Capital Studies,Class and Gender,Classes/Events,Emancipation,Enclosures,Food and politics,historical materialism,Intro to Marxism,Marx,Marx's Capital,Marxisms,Marxist Method,Migration,Multi-session Classes,Political Economy,Revolutions Study Group,Science and Method,Seminars and Talks,Social Reproduction
ATTACH;FMTTYPE=image/jpeg:https://marxedproject.org/wp-content/uploads/2021/05/GellertCapitalist.jpg
END:VEVENT
BEGIN:VEVENT
DTSTART;TZID=America/Halifax:20210819T190000
DTEND;TZID=America/Halifax:20210819T210000
DTSTAMP:20260421T112220
CREATED:20210520T055647Z
LAST-MODIFIED:20210904T213943Z
UID:10006945-1629399600-1629406800@marxedproject.org
SUMMARY:Fifth Summer of Noir: Last session this week (Derek Raymond and Denise Mina)
DESCRIPTION:with The Marxist Education Project Literature Studies Group\n“As Georges Bataille tells us\, there is a profound link between literature and evil. If writing and reading are transgressive acts\, or crimes\, which unmask deep philosophical truths about us and our world\, then what does crime fiction — a genre focused on those transgressions — reveal? Scholars from Dennis Porter to Ernest Mandel argue that the crime genre is also distinctly social\, even political\, and revealing about mainstream ideology\, power\, and control.”           —Russell Williams\, “The Serie Noire and Social Intervention”\, LA Review of Books\, July 27\, 2015 \nFor the last four summers\, the MEP Literature Studies Group has delved into a wealth of noir fiction. This year our six selections will take us deep into the underbelly of capitalism – good for reading at the beach\, on the subway\, a train\, boat or plane\, or in your favorite reading chair safely at home. \nWe have completed our discussions of Drive\, Clark Gifford’s Body\, Dread Journey\, Black Wings Has My Angel and How the Dead Live. \n \nSEPTEMBER 9 • THE LESS DEAD by DENISE MINA\nA story of daughters and mothers\, secrets and choices\, and how the search for the truth—and a long-hidden killer—will lead one woman to find herself. 336 pages \nDenise Mina is a Scottish crime writer and playwright. She has written the Garnethill trilogy and another three novels featuring the character Patricia “Paddy” Meehan\, a Glasgow journalist. Described as an author of Tartan Noir\, she has also dabbled in comic book writing\, having written 13 issues of Hellblazer. \n  \n 
URL:https://marxedproject.org/event/pandemic-summer-noir/2021-08-19/
LOCATION:Online Event – Zoom Meeting
CATEGORIES:American Literature,Class,Class and Gender,Classes/Events,Emancipation,Literary Studies,Marxist Method,Modernity,Multi-session Classes,Noir Fiction,Radical Literature,Speculative fiction
ATTACH;FMTTYPE=image/jpeg:https://marxedproject.org/wp-content/uploads/2021/05/SummerNoirStopsign2.jpg
END:VEVENT
END:VCALENDAR