BEGIN:VCALENDAR
VERSION:2.0
PRODID:-//Marxist Education Project - ECPv6.15.20//NONSGML v1.0//EN
CALSCALE:GREGORIAN
METHOD:PUBLISH
X-ORIGINAL-URL:https://marxedproject.org
X-WR-CALDESC:Events for Marxist Education Project
REFRESH-INTERVAL;VALUE=DURATION:PT1H
X-Robots-Tag:noindex
X-PUBLISHED-TTL:PT1H
BEGIN:VTIMEZONE
TZID:America/Halifax
BEGIN:DAYLIGHT
TZOFFSETFROM:-0400
TZOFFSETTO:-0300
TZNAME:ADT
DTSTART:20160313T060000
END:DAYLIGHT
BEGIN:STANDARD
TZOFFSETFROM:-0300
TZOFFSETTO:-0400
TZNAME:AST
DTSTART:20161106T050000
END:STANDARD
BEGIN:DAYLIGHT
TZOFFSETFROM:-0400
TZOFFSETTO:-0300
TZNAME:ADT
DTSTART:20170312T060000
END:DAYLIGHT
BEGIN:STANDARD
TZOFFSETFROM:-0300
TZOFFSETTO:-0400
TZNAME:AST
DTSTART:20171105T050000
END:STANDARD
BEGIN:DAYLIGHT
TZOFFSETFROM:-0400
TZOFFSETTO:-0300
TZNAME:ADT
DTSTART:20180311T060000
END:DAYLIGHT
BEGIN:STANDARD
TZOFFSETFROM:-0300
TZOFFSETTO:-0400
TZNAME:AST
DTSTART:20181104T050000
END:STANDARD
END:VTIMEZONE
BEGIN:VEVENT
DTSTART;TZID=America/Halifax:20170228T193000
DTEND;TZID=America/Halifax:20170228T213000
DTSTAMP:20260421T210500
CREATED:20170220T171117Z
LAST-MODIFIED:20170222T054604Z
UID:10006155-1488310200-1488317400@marxedproject.org
SUMMARY:Emergence of a New Left: Civil Rights from Reform to Revolution
DESCRIPTION:We begin with Malcolm\nNoble Bratton\nTwo more sessions prior to One-Dimensional Man: February 28 and March 7 \nNoble Bratton will conduct a 3-week history of the Civil Rights movement with CORE\, SNCC and analyzing the growing militancy in African-American life that led to the revolutionary politics of The Black Panther Party as the 60s developed.\nNoble Bratton is a graduate of Cornell University and is on the editorial board of Working USA/Labor and Society. He taught a class on the US Presidency at The Brecht Forum. He has participated with the Leo Downes Harlem Y Study Group. He is also a former member of District Council 65 of the UAW\, UNITE Local 169.\nReadings for the next two weeks will include chapters from Manning Marable’s Race\, Reform and Rebellion.
URL:https://marxedproject.org/event/emergence-of-a-new-left-civil-rights-from-reform-to-revolution/
LOCATION:Brooklyn Commons\, 388 Atlantic Avenue\, Brooklyn
ATTACH;FMTTYPE=image/jpeg:https://marxedproject.org/wp-content/uploads/2017/02/CivRightsFeb21_Site.jpg
ORGANIZER;CN="Beginnings of a New Left":MAILTO:revsgroup@gmail.com
GEO:40.6869154;-73.9855868
X-APPLE-STRUCTURED-LOCATION;VALUE=URI;X-ADDRESS=Brooklyn Commons 388 Atlantic Avenue Brooklyn;X-APPLE-RADIUS=500;X-TITLE=388 Atlantic Avenue:geo:-73.9855868,40.6869154
END:VEVENT
END:VCALENDAR