BEGIN:VCALENDAR
VERSION:2.0
PRODID:-//Marxist Education Project - ECPv6.15.20//NONSGML v1.0//EN
CALSCALE:GREGORIAN
METHOD:PUBLISH
X-WR-CALNAME:Marxist Education Project
X-ORIGINAL-URL:https://marxedproject.org
X-WR-CALDESC:Events for Marxist Education Project
REFRESH-INTERVAL;VALUE=DURATION:PT1H
X-Robots-Tag:noindex
X-PUBLISHED-TTL:PT1H
BEGIN:VTIMEZONE
TZID:America/Halifax
BEGIN:DAYLIGHT
TZOFFSETFROM:-0400
TZOFFSETTO:-0300
TZNAME:ADT
DTSTART:20200308T060000
END:DAYLIGHT
BEGIN:STANDARD
TZOFFSETFROM:-0300
TZOFFSETTO:-0400
TZNAME:AST
DTSTART:20201101T050000
END:STANDARD
BEGIN:DAYLIGHT
TZOFFSETFROM:-0400
TZOFFSETTO:-0300
TZNAME:ADT
DTSTART:20210314T060000
END:DAYLIGHT
BEGIN:STANDARD
TZOFFSETFROM:-0300
TZOFFSETTO:-0400
TZNAME:AST
DTSTART:20211107T050000
END:STANDARD
BEGIN:DAYLIGHT
TZOFFSETFROM:-0400
TZOFFSETTO:-0300
TZNAME:ADT
DTSTART:20220313T060000
END:DAYLIGHT
BEGIN:STANDARD
TZOFFSETFROM:-0300
TZOFFSETTO:-0400
TZNAME:AST
DTSTART:20221106T050000
END:STANDARD
END:VTIMEZONE
BEGIN:VEVENT
DTSTART;TZID=America/Halifax:20210311T190000
DTEND;TZID=America/Halifax:20210311T210000
DTSTAMP:20260424T092856
CREATED:20201214T175355Z
LAST-MODIFIED:20210312T210306Z
UID:10006843-1615489200-1615496400@marxedproject.org
SUMMARY:M.A.D. Lit 101: American Fiction and the Cold War
DESCRIPTION:The year 1953 was like most of the years following the end of the slaughter of World War II. It was another year of the baby boom that filled maternity wards in the United States\, a generation that ironically couldn’t wait to leave these suburbs. The Cold War was well under way\, and anti-communism in the U.S. was at its peak. Politicians pontificated that it was “better to be dead than Red.” In the East and the West\, the military apparatus stockpiled nuclear weapons capable of ending life on this planet thousands of times over — Mutually Assured Destruction. \nWe began this reading group with Shirley Jackson’s short story “The Lottery” followed by a shared reading of Allen Ginsburg’s Howl\, and have nowcompleted our discussion of Ring Lardner\, Jr.’s The Ecstasy of Owen Muir. We have just started The Public Burning by Robert Coover\, after which we will read and discuss Richard Wright’s The Outsider. Coover’s novel is a political economy of the US as the hegemon of Post World War II capital global restructuring and the shift of much production to energy\, the military and finance and the attempted thorough destruction of any semblance of a left opposition. \nWhat can we learn from these literary renderings and how do they help us understand the perilous period in history that we now find ourselves living? \nThe MEP LITERATURE GROUP has been meeting to discuss literature since the first days of The Marxist Education Project following a presentation by Roxanne Dunbar-Ortiz on her Indigenous Peoples History of the United States and her recommendation that we take up literature with Leslie Marmon Silko’s Almanac of The Dead. The group has rcompleted readings of Victor Serge’s Unforgiving Years which was followed by Thomas Pynchon’s Gravity’s Rainbow. Other studies have included novels related to World War I\, the depression of the 1930s\, and novels on migration\,border politics and labor organizing and our most recent session on Women Who Wrote Against Fascism\, and this summer will the group will host a 5th consecutive Noir Summer.
URL:https://marxedproject.org/event/m-a-d-lit-101-american-fiction-and-the-cold-war/2021-03-11/
LOCATION:Online Event – Zoom Meeting
CATEGORIES:American Literature,Classes/Events,Literary Studies,Multi-session Classes,Race and Class,Radical Literature,Revolutions Study Group,Science and Technology,Seminars and Talks
ATTACH;FMTTYPE=image/jpeg:https://marxedproject.org/wp-content/uploads/2020/12/MutualAssuredScreenSmallest.jpg
ORGANIZER;CN="MEP Literature Group":MAILTO:info@marxedproject.org
END:VEVENT
BEGIN:VEVENT
DTSTART;TZID=America/Halifax:20210304T190000
DTEND;TZID=America/Halifax:20210304T210000
DTSTAMP:20260424T092856
CREATED:20201214T175355Z
LAST-MODIFIED:20210312T210306Z
UID:10006842-1614884400-1614891600@marxedproject.org
SUMMARY:M.A.D. Lit 101: American Fiction and the Cold War
DESCRIPTION:The year 1953 was like most of the years following the end of the slaughter of World War II. It was another year of the baby boom that filled maternity wards in the United States\, a generation that ironically couldn’t wait to leave these suburbs. The Cold War was well under way\, and anti-communism in the U.S. was at its peak. Politicians pontificated that it was “better to be dead than Red.” In the East and the West\, the military apparatus stockpiled nuclear weapons capable of ending life on this planet thousands of times over — Mutually Assured Destruction. \nWe began this reading group with Shirley Jackson’s short story “The Lottery” followed by a shared reading of Allen Ginsburg’s Howl\, and have nowcompleted our discussion of Ring Lardner\, Jr.’s The Ecstasy of Owen Muir. We have just started The Public Burning by Robert Coover\, after which we will read and discuss Richard Wright’s The Outsider. Coover’s novel is a political economy of the US as the hegemon of Post World War II capital global restructuring and the shift of much production to energy\, the military and finance and the attempted thorough destruction of any semblance of a left opposition. \nWhat can we learn from these literary renderings and how do they help us understand the perilous period in history that we now find ourselves living? \nThe MEP LITERATURE GROUP has been meeting to discuss literature since the first days of The Marxist Education Project following a presentation by Roxanne Dunbar-Ortiz on her Indigenous Peoples History of the United States and her recommendation that we take up literature with Leslie Marmon Silko’s Almanac of The Dead. The group has rcompleted readings of Victor Serge’s Unforgiving Years which was followed by Thomas Pynchon’s Gravity’s Rainbow. Other studies have included novels related to World War I\, the depression of the 1930s\, and novels on migration\,border politics and labor organizing and our most recent session on Women Who Wrote Against Fascism\, and this summer will the group will host a 5th consecutive Noir Summer.
URL:https://marxedproject.org/event/m-a-d-lit-101-american-fiction-and-the-cold-war/2021-03-04/
LOCATION:Online Event – Zoom Meeting
CATEGORIES:American Literature,Classes/Events,Literary Studies,Multi-session Classes,Race and Class,Radical Literature,Revolutions Study Group,Science and Technology,Seminars and Talks
ATTACH;FMTTYPE=image/jpeg:https://marxedproject.org/wp-content/uploads/2020/12/MutualAssuredScreenSmallest.jpg
ORGANIZER;CN="MEP Literature Group":MAILTO:info@marxedproject.org
END:VEVENT
BEGIN:VEVENT
DTSTART;TZID=America/Halifax:20210225T190000
DTEND;TZID=America/Halifax:20210225T210000
DTSTAMP:20260424T092856
CREATED:20201214T175355Z
LAST-MODIFIED:20210312T210306Z
UID:10006841-1614279600-1614286800@marxedproject.org
SUMMARY:M.A.D. Lit 101: American Fiction and the Cold War
DESCRIPTION:The year 1953 was like most of the years following the end of the slaughter of World War II. It was another year of the baby boom that filled maternity wards in the United States\, a generation that ironically couldn’t wait to leave these suburbs. The Cold War was well under way\, and anti-communism in the U.S. was at its peak. Politicians pontificated that it was “better to be dead than Red.” In the East and the West\, the military apparatus stockpiled nuclear weapons capable of ending life on this planet thousands of times over — Mutually Assured Destruction. \nWe began this reading group with Shirley Jackson’s short story “The Lottery” followed by a shared reading of Allen Ginsburg’s Howl\, and have nowcompleted our discussion of Ring Lardner\, Jr.’s The Ecstasy of Owen Muir. We have just started The Public Burning by Robert Coover\, after which we will read and discuss Richard Wright’s The Outsider. Coover’s novel is a political economy of the US as the hegemon of Post World War II capital global restructuring and the shift of much production to energy\, the military and finance and the attempted thorough destruction of any semblance of a left opposition. \nWhat can we learn from these literary renderings and how do they help us understand the perilous period in history that we now find ourselves living? \nThe MEP LITERATURE GROUP has been meeting to discuss literature since the first days of The Marxist Education Project following a presentation by Roxanne Dunbar-Ortiz on her Indigenous Peoples History of the United States and her recommendation that we take up literature with Leslie Marmon Silko’s Almanac of The Dead. The group has rcompleted readings of Victor Serge’s Unforgiving Years which was followed by Thomas Pynchon’s Gravity’s Rainbow. Other studies have included novels related to World War I\, the depression of the 1930s\, and novels on migration\,border politics and labor organizing and our most recent session on Women Who Wrote Against Fascism\, and this summer will the group will host a 5th consecutive Noir Summer.
URL:https://marxedproject.org/event/m-a-d-lit-101-american-fiction-and-the-cold-war/2021-02-25/
LOCATION:Online Event – Zoom Meeting
CATEGORIES:American Literature,Classes/Events,Literary Studies,Multi-session Classes,Race and Class,Radical Literature,Revolutions Study Group,Science and Technology,Seminars and Talks
ATTACH;FMTTYPE=image/jpeg:https://marxedproject.org/wp-content/uploads/2020/12/MutualAssuredScreenSmallest.jpg
ORGANIZER;CN="MEP Literature Group":MAILTO:info@marxedproject.org
END:VEVENT
BEGIN:VEVENT
DTSTART;TZID=America/Halifax:20210218T190000
DTEND;TZID=America/Halifax:20210218T210000
DTSTAMP:20260424T092856
CREATED:20201214T175355Z
LAST-MODIFIED:20210312T210306Z
UID:10006840-1613674800-1613682000@marxedproject.org
SUMMARY:M.A.D. Lit 101: American Fiction and the Cold War
DESCRIPTION:The year 1953 was like most of the years following the end of the slaughter of World War II. It was another year of the baby boom that filled maternity wards in the United States\, a generation that ironically couldn’t wait to leave these suburbs. The Cold War was well under way\, and anti-communism in the U.S. was at its peak. Politicians pontificated that it was “better to be dead than Red.” In the East and the West\, the military apparatus stockpiled nuclear weapons capable of ending life on this planet thousands of times over — Mutually Assured Destruction. \nWe began this reading group with Shirley Jackson’s short story “The Lottery” followed by a shared reading of Allen Ginsburg’s Howl\, and have nowcompleted our discussion of Ring Lardner\, Jr.’s The Ecstasy of Owen Muir. We have just started The Public Burning by Robert Coover\, after which we will read and discuss Richard Wright’s The Outsider. Coover’s novel is a political economy of the US as the hegemon of Post World War II capital global restructuring and the shift of much production to energy\, the military and finance and the attempted thorough destruction of any semblance of a left opposition. \nWhat can we learn from these literary renderings and how do they help us understand the perilous period in history that we now find ourselves living? \nThe MEP LITERATURE GROUP has been meeting to discuss literature since the first days of The Marxist Education Project following a presentation by Roxanne Dunbar-Ortiz on her Indigenous Peoples History of the United States and her recommendation that we take up literature with Leslie Marmon Silko’s Almanac of The Dead. The group has rcompleted readings of Victor Serge’s Unforgiving Years which was followed by Thomas Pynchon’s Gravity’s Rainbow. Other studies have included novels related to World War I\, the depression of the 1930s\, and novels on migration\,border politics and labor organizing and our most recent session on Women Who Wrote Against Fascism\, and this summer will the group will host a 5th consecutive Noir Summer.
URL:https://marxedproject.org/event/m-a-d-lit-101-american-fiction-and-the-cold-war/2021-02-18/
LOCATION:Online Event – Zoom Meeting
CATEGORIES:American Literature,Classes/Events,Literary Studies,Multi-session Classes,Race and Class,Radical Literature,Revolutions Study Group,Science and Technology,Seminars and Talks
ATTACH;FMTTYPE=image/jpeg:https://marxedproject.org/wp-content/uploads/2020/12/MutualAssuredScreenSmallest.jpg
ORGANIZER;CN="MEP Literature Group":MAILTO:info@marxedproject.org
END:VEVENT
BEGIN:VEVENT
DTSTART;TZID=America/Halifax:20210211T190000
DTEND;TZID=America/Halifax:20210211T210000
DTSTAMP:20260424T092856
CREATED:20201214T175355Z
LAST-MODIFIED:20210312T210306Z
UID:10006839-1613070000-1613077200@marxedproject.org
SUMMARY:M.A.D. Lit 101: American Fiction and the Cold War
DESCRIPTION:The year 1953 was like most of the years following the end of the slaughter of World War II. It was another year of the baby boom that filled maternity wards in the United States\, a generation that ironically couldn’t wait to leave these suburbs. The Cold War was well under way\, and anti-communism in the U.S. was at its peak. Politicians pontificated that it was “better to be dead than Red.” In the East and the West\, the military apparatus stockpiled nuclear weapons capable of ending life on this planet thousands of times over — Mutually Assured Destruction. \nWe began this reading group with Shirley Jackson’s short story “The Lottery” followed by a shared reading of Allen Ginsburg’s Howl\, and have nowcompleted our discussion of Ring Lardner\, Jr.’s The Ecstasy of Owen Muir. We have just started The Public Burning by Robert Coover\, after which we will read and discuss Richard Wright’s The Outsider. Coover’s novel is a political economy of the US as the hegemon of Post World War II capital global restructuring and the shift of much production to energy\, the military and finance and the attempted thorough destruction of any semblance of a left opposition. \nWhat can we learn from these literary renderings and how do they help us understand the perilous period in history that we now find ourselves living? \nThe MEP LITERATURE GROUP has been meeting to discuss literature since the first days of The Marxist Education Project following a presentation by Roxanne Dunbar-Ortiz on her Indigenous Peoples History of the United States and her recommendation that we take up literature with Leslie Marmon Silko’s Almanac of The Dead. The group has rcompleted readings of Victor Serge’s Unforgiving Years which was followed by Thomas Pynchon’s Gravity’s Rainbow. Other studies have included novels related to World War I\, the depression of the 1930s\, and novels on migration\,border politics and labor organizing and our most recent session on Women Who Wrote Against Fascism\, and this summer will the group will host a 5th consecutive Noir Summer.
URL:https://marxedproject.org/event/m-a-d-lit-101-american-fiction-and-the-cold-war/2021-02-11/
LOCATION:Online Event – Zoom Meeting
CATEGORIES:American Literature,Classes/Events,Literary Studies,Multi-session Classes,Race and Class,Radical Literature,Revolutions Study Group,Science and Technology,Seminars and Talks
ATTACH;FMTTYPE=image/jpeg:https://marxedproject.org/wp-content/uploads/2020/12/MutualAssuredScreenSmallest.jpg
ORGANIZER;CN="MEP Literature Group":MAILTO:info@marxedproject.org
END:VEVENT
END:VCALENDAR