BEGIN:VCALENDAR
VERSION:2.0
PRODID:-//Marxist Education Project - ECPv6.15.20//NONSGML v1.0//EN
CALSCALE:GREGORIAN
METHOD:PUBLISH
X-WR-CALNAME:Marxist Education Project
X-ORIGINAL-URL:https://marxedproject.org
X-WR-CALDESC:Events for Marxist Education Project
REFRESH-INTERVAL;VALUE=DURATION:PT1H
X-Robots-Tag:noindex
X-PUBLISHED-TTL:PT1H
BEGIN:VTIMEZONE
TZID:America/Halifax
BEGIN:DAYLIGHT
TZOFFSETFROM:-0400
TZOFFSETTO:-0300
TZNAME:ADT
DTSTART:20160313T060000
END:DAYLIGHT
BEGIN:STANDARD
TZOFFSETFROM:-0300
TZOFFSETTO:-0400
TZNAME:AST
DTSTART:20161106T050000
END:STANDARD
BEGIN:DAYLIGHT
TZOFFSETFROM:-0400
TZOFFSETTO:-0300
TZNAME:ADT
DTSTART:20170312T060000
END:DAYLIGHT
BEGIN:STANDARD
TZOFFSETFROM:-0300
TZOFFSETTO:-0400
TZNAME:AST
DTSTART:20171105T050000
END:STANDARD
BEGIN:DAYLIGHT
TZOFFSETFROM:-0400
TZOFFSETTO:-0300
TZNAME:ADT
DTSTART:20180311T060000
END:DAYLIGHT
BEGIN:STANDARD
TZOFFSETFROM:-0300
TZOFFSETTO:-0400
TZNAME:AST
DTSTART:20181104T050000
END:STANDARD
END:VTIMEZONE
BEGIN:VEVENT
DTSTART;TZID=America/Halifax:20171110T193000
DTEND;TZID=America/Halifax:20171110T213000
DTSTAMP:20260421T100549
CREATED:20170806T033720Z
LAST-MODIFIED:20170806T033720Z
UID:10006195-1510342200-1510349400@marxedproject.org
SUMMARY:A History of the World in Seven Cheap Things
DESCRIPTION:with Jason W. Moore \nNature\, money\, work\, care\, food\, energy\, and lives: these are the seven things that have made our world and will shape its future. In making these things cheap\, modern commerce has transformed\, governed\, and devastated Earth. Jason W. Moore presents a new book authored with Raj Patel\, A History of the World in Seven Cheap Things.  \nBringing the latest ecological research together with histories of colonialism\, indigenous struggles\, slave revolts\, and other rebellions and uprisings\, Moore and Patel demonstrate that throughout the history of capitalism\, crises have always prompted fresh efforts to restore the seven cheap things – regardless of the cost to working people and the environment. At a time of crisis in all seven cheap things\, they propose radical new ways of understanding—and reclaiming—the planet in the turbulent twenty-first century. \nJason W. Moore teaches world history and world-ecology at Binghamton University\, and is coordinator of the World-Ecology Research Network. He is the author of Capitalism in the Web of Life and numerous award-winning essays in environmental history\, political economy\, and social theory.
URL:https://marxedproject.org/event/a-history-of-the-world-in-seven-cheap-things/
LOCATION:NY\, United States
ATTACH;FMTTYPE=image/jpeg:https://marxedproject.org/wp-content/uploads/2017/08/JasonMooreForSite.jpg
END:VEVENT
BEGIN:VEVENT
DTSTART;TZID=America/Halifax:20170712T190000
DTEND;TZID=America/Halifax:20170712T210000
DTSTAMP:20260421T100549
CREATED:20170618T215859Z
LAST-MODIFIED:20170703T163107Z
UID:10003788-1499886000-1499893200@marxedproject.org
SUMMARY:No Blood for Oil!
DESCRIPTION:An author presentation with discussion\, co-sponsored with Autonomedia \nNo Blood For Oil!\nEssays on Energy\, Class Struggle and War 1998–2016\nGeorge Caffentzis \nThe oil industry is at the center of the major struggles of our time\, but is Marxist theory able to explain its behavior? The oil industry presents a paradox to Marxist theory.  How is it that oil companies employ relatively few workers and invest in a relatively large amount of machinery\, but still are the largest and most profitable companies on the planet? It should be otherwise\, if profits come from exploiting worker’s labor. In his book\, No Blood for Oil\, George Caffentzis shows how Marxism resolves this paradox and accounts for the peculiar role that the oil industry plays in contemporary capitalism as generator of ecological devastation\, war and exploitation. Come to discuss the struggle over the exchange of blood for oil. \nGeorge Caffentzis is emeritus professor of philosophy at the University of Southern Maine. He has taught courses on oil and class struggle in many venues in Africa\, South America and Europe. He is a co-founder of the Midnight Notes Collective and is the author of In Letters of Blood and Fire: Work\, Machines\, and the Crisis of Capitalism (2013) and Exciting the Industry of Mankind: George Berkeley’s Philosophy of Money (2000).  \n“The papers in this collection are weapons we use to deconstruct the politics of war and oil\, to uncover the multilayered class meaning of contemporary energy policy\, and are the treasure that gives us a different sense of alternatives. Caffentzis’ critical understanding dissolves the fatalism of peak-oil arguments and posits our struggles to reclaim the commons as the real limit of capitalist use of energy.” — Massimo de Angelis\, author of The Beginning of History
URL:https://marxedproject.org/event/no-blood-for-oil/
LOCATION:New Perspectives Theatre\, 456-458 West 37th Street\, New York\, NY\, United States
ATTACH;FMTTYPE=image/jpeg:https://marxedproject.org/wp-content/uploads/2017/06/NoBlood_OilSite.jpg
END:VEVENT
END:VCALENDAR