BEGIN:VCALENDAR
VERSION:2.0
PRODID:-//Marxist Education Project - ECPv6.15.20//NONSGML v1.0//EN
CALSCALE:GREGORIAN
METHOD:PUBLISH
X-WR-CALNAME:Marxist Education Project
X-ORIGINAL-URL:https://marxedproject.org
X-WR-CALDESC:Events for Marxist Education Project
REFRESH-INTERVAL;VALUE=DURATION:PT1H
X-Robots-Tag:noindex
X-PUBLISHED-TTL:PT1H
BEGIN:VTIMEZONE
TZID:America/New_York
BEGIN:DAYLIGHT
TZOFFSETFROM:-0500
TZOFFSETTO:-0400
TZNAME:EDT
DTSTART:20230312T070000
END:DAYLIGHT
BEGIN:STANDARD
TZOFFSETFROM:-0400
TZOFFSETTO:-0500
TZNAME:EST
DTSTART:20231105T060000
END:STANDARD
BEGIN:DAYLIGHT
TZOFFSETFROM:-0500
TZOFFSETTO:-0400
TZNAME:EDT
DTSTART:20240310T070000
END:DAYLIGHT
BEGIN:STANDARD
TZOFFSETFROM:-0400
TZOFFSETTO:-0500
TZNAME:EST
DTSTART:20241103T060000
END:STANDARD
BEGIN:DAYLIGHT
TZOFFSETFROM:-0500
TZOFFSETTO:-0400
TZNAME:EDT
DTSTART:20250309T070000
END:DAYLIGHT
BEGIN:STANDARD
TZOFFSETFROM:-0400
TZOFFSETTO:-0500
TZNAME:EST
DTSTART:20251102T060000
END:STANDARD
END:VTIMEZONE
BEGIN:VTIMEZONE
TZID:America/New_York
BEGIN:DAYLIGHT
TZOFFSETFROM:-0500
TZOFFSETTO:-0400
TZNAME:EDT
DTSTART:20230312T070000
END:DAYLIGHT
BEGIN:STANDARD
TZOFFSETFROM:-0400
TZOFFSETTO:-0500
TZNAME:EST
DTSTART:20231105T060000
END:STANDARD
BEGIN:DAYLIGHT
TZOFFSETFROM:-0500
TZOFFSETTO:-0400
TZNAME:EDT
DTSTART:20240310T070000
END:DAYLIGHT
BEGIN:STANDARD
TZOFFSETFROM:-0400
TZOFFSETTO:-0500
TZNAME:EST
DTSTART:20241103T060000
END:STANDARD
BEGIN:DAYLIGHT
TZOFFSETFROM:-0500
TZOFFSETTO:-0400
TZNAME:EDT
DTSTART:20250309T070000
END:DAYLIGHT
BEGIN:STANDARD
TZOFFSETFROM:-0400
TZOFFSETTO:-0500
TZNAME:EST
DTSTART:20251102T060000
END:STANDARD
END:VTIMEZONE
BEGIN:VEVENT
DTSTART;TZID=America/New_York:20241106T183000
DTEND;TZID=America/New_York:20241106T200000
DTSTAMP:20260425T204331
CREATED:20241013T150047Z
LAST-MODIFIED:20241104T235015Z
UID:10008322-1730917800-1730923200@marxedproject.org
SUMMARY:Conversations on the US Elections - What happens next?
DESCRIPTION:Join us online on Wednesday\, November 6 at 6:30 pm US ET for a first-impressions conversation on whatever results are known of the 2024 US elections. We will not know everything; many things will play out over the months that follow. We will know some things that have already taken shape. We can ask what will governing look like\, what new shapes may fascism take\, what directions will capitalism take\, and how resistance will evolve. What does the election mean for climate struggle\, Palestine solidarity\, reproductive freedom\, challenging the carceral state? \nRecent MEP study groups and events have taken on these and related questions. We will bring those studies to bear on these questions\, and bring to bear your participation in these struggles as well. \nJoin us for this open-ended conversation about the evolving US political conjuncture now shaping the November elections. We will also introduce a new study group beginning in November that will examine the historical roots of American fascism to better understand its threat today and the work that lies ahead. \nPlease RSVP below and we will send you a Zoom link to join the conversation.\nA donation of $5 or more will help support the work of the MEP. \nHere are some items we’ve run across about the elections and the present moment which you might find useful.
URL:https://marxedproject.org/event/conversations-on-the-us-elections-what-happens-next/
LOCATION:Online Event – Zoom Meeting
CATEGORIES:Classes/Events,featured
ATTACH;FMTTYPE=image/png:https://marxedproject.org/wp-content/uploads/2024/09/2024-demonstration.png
END:VEVENT
BEGIN:VEVENT
DTSTART;TZID=America/New_York:20241109T110000
DTEND;TZID=America/New_York:20241109T130000
DTSTAMP:20260425T204331
CREATED:20240616T120204Z
LAST-MODIFIED:20241108T113729Z
UID:10008250-1731150000-1731157200@marxedproject.org
SUMMARY:Studies in Marx's Capital
DESCRIPTION:Following up on the MEP’s long-running study of Karl Marx’s Grundrisse\, this group has been reading closely and discussing Marx’s Theories of Surplus Value and related articles and books analyzing and amplifying the three volumes of Marx’s Capital.  At present (November 2024) we are completing a study of  capitalist landholding and ground rent. Future readings may include Mute Compulsion: A Marxist Theory of the Economic Power of Capital\, by Søren Mau\, and The Automatic Fetish: The Law of Value in Marx’s Capital\, by Beverley Best. \nRSVP below if you wish to join this ongoing study group and we will send you the Zoom link. A suggested donation of $50 or whatever amount you can afford is welcome and appreciated.
URL:https://marxedproject.org/event/theories-surplus-value-4/
LOCATION:Online Event – Zoom Meeting
CATEGORIES:Accumulation of Capital,Capital Studies,Classes/Events,historical materialism,Money,Political Economy,Science and Method,Summer24
ATTACH;FMTTYPE=image/png:https://marxedproject.org/wp-content/uploads/2023/08/web-16x9-2.png
ORGANIZER;CN="Capital Studies Group":MAILTO:info@marxedproject.org
END:VEVENT
BEGIN:VEVENT
DTSTART;TZID=America/New_York:20241111T183000
DTEND;TZID=America/New_York:20241111T200000
DTSTAMP:20260425T204331
CREATED:20240722T152335Z
LAST-MODIFIED:20241105T145256Z
UID:10007993-1731349800-1731355200@marxedproject.org
SUMMARY:The Circulation of Capital: Volume II of Marx's Capital
DESCRIPTION:In Volume I of Capital\, Marx analyzes the processes of capitalist production and accumulation and identifies the real sources of wealth: nature and the labor performed by working people. In Volume II\, The Process of Circulation of Capital\, he addresses the next big question: How can the reproduction of society as a whole take place\, if there is no conscious social planning that ensures that all needs are met\, in the necessary proportions\, such that life can persist and the capitalist relations of production be sustained? We discover the answer\, but we also learn of new contradictions and sources of crisis inherent to capitalist society. Marx thereby lays the groundwork for the system-wide analyses in Volume III\, The Process of Capitalist Production as a Whole. \nWe welcome all who have a basic knowledge of Volume I of Capital to this ongoing weekly study group. Participants are closely reading and discussing Volume II\, guided by Fred Murphy and other experienced students of Marx from the MEP. We use a hybrid approach to cover the entire book. For key chapters or sections\, we do a line-by-line reading with commentary and occasional supplemental materials. Participants read other sections on their own\, and we summarize and discuss when we meet. The series is ongoing until we have read the entire book. At present we are reading Part Three\, “The Reproduction and Circulation of the Total Social Capital.” \nFred Murphy facilitates this group. Fred has led numerous study groups on ecosocialism\, science and technology\, the history of capitalism\, and Latin American politics at the Marxist Education Project since 2015. He studied and taught historical sociology at the New School for Social Research. \nRSVP below to join the group in progress. There is no registration fee but a suggested donation of $50 or whatever amount you can afford will help support the work of the MEP.
URL:https://marxedproject.org/event/capital-volume-ii-4-2/
LOCATION:Online Event – Zoom Meeting
CATEGORIES:Accumulation of Capital,Capital Studies,Classes/Events,Crisis,Das Kapital,historical materialism,Marx,Marx's Capital,Marxist Method,Money,Multi-session Classes,Political Economy,Science and Method,Social Reproduction,Summer24
ATTACH;FMTTYPE=image/jpeg:https://marxedproject.org/wp-content/uploads/2024/01/containership2-1-1.jpg
ORGANIZER;CN="Capital Studies Group":MAILTO:info@marxedproject.org
END:VEVENT
BEGIN:VEVENT
DTSTART;TZID=America/New_York:20241120T190000
DTEND;TZID=America/New_York:20241120T210000
DTSTAMP:20260425T204331
CREATED:20241031T191423Z
LAST-MODIFIED:20241128T000424Z
UID:10008323-1732129200-1732136400@marxedproject.org
SUMMARY:A Prime Competitor: Understanding Amazon’s Market Power
DESCRIPTION:A recording of this November 20\, 2024\, event is available on our YouTube channel. \nStephen Maher and Scott Aquanno present an innovative analysis of Amazon’s market power\, drawing on major themes from Marx’s Capital\, volume 2. In a recent report prepared for Amazon Worker Solidarity\, they challenge understandings of “monopoly” common in mainstream economics as well as among sections of the left. \nAmazon’s “bigness” and lack of a direct competitor would seem to suggest that it should be considered a monopoly. And yet\, far from exhibiting the tell-tale signs of increasing monopoly prices\, inefficiency\, and technological stagnation\, Amazon has engaged in cutthroat price competition\, built a highly efficient and technologically advanced logistics system\, and unleashed competitive forces whose effects have reverberated across the retail sector and beyond. Moreover\, Amazon’s distinct vertically integrated structure\, competing across a range of sectors including retail\, e-commerce\, logistics\, online search engines\, and media entertainment – each dominated by large firms – suggests that today’s giant corporations are not significantly encumbered by barriers to entry. \nStephen Maher is Assistant Professor of Economics at SUNY Cortland\, and Co-Editor of the Socialist Register. With Scott Aquanno he co-authored The Fall and Rise of American Finance: From J.P. Morgan to Blackrock (Verso\, 2024). Steve is also the author of Corporate Capitalism and the Integral State: General Electric and a Century of American Power (Palgrave\, 2022). \nScott Aquanno is Assistant Professor of Political Science at Ontario Tech University\, and a Visiting Associate at the Global Labour Research Centre at York University. With Stephen Maher he co-authored The Fall and Rise of American Finance: From J.P. Morgan to Blackrock (Verso\, 2024). Scott is also the author of Crisis of Risk: Subprime Debt and US Financial Power from 1944 to Present (Edward Elgar\, 2021).
URL:https://marxedproject.org/event/amazon-market-power/
LOCATION:Recording available on YouTube
CATEGORIES:_Seasons,Accumulation of Capital,Capital Studies,Das Kapital,Fall24,featured,Intro to Marxism,Marxist Method,Political Economy,Seminars and Talks
ATTACH;FMTTYPE=image/jpeg:https://marxedproject.org/wp-content/uploads/2024/10/AmazonTrucks.jpg
END:VEVENT
BEGIN:VEVENT
DTSTART;TZID=America/New_York:20241126T130000
DTEND;TZID=America/New_York:20241126T143000
DTSTAMP:20260425T204331
CREATED:20240829T205940Z
LAST-MODIFIED:20250221T170750Z
UID:10008311-1732626000-1732631400@marxedproject.org
SUMMARY:AI versus Labor: Luddism and Beyond
DESCRIPTION:Weekly sessions on Tuesdays at 1 pm through December 2024 \nIs Artificial Intelligence (AI\, sic) really the dire threat to the future of humanity as even some of its proponents claim\, or is it a more mundane and familiar threat to working people who face loss of their livelihoods and/or further speed-up and alienation? The entire history of industrial capitalism is punctuated by recurring waves of automation to reduce labor costs and turnover time\, each time provoking strong resistance by the affected workforce. This reading group will probe the history both of AI and computer technology specifically and of working-class resistance to capitalist automation in general. In eight weekly sessions we will read\, discuss\, and critique two recent works: Breaking Things at Work: The Luddites Are Right About Why You Hate Your Job\, by Gavin Mueller; and The Eye of the Master: A Social History of Artificial Intelligence\, by Matteo Pasquinelli. Both are available in paper and eBook format from the publisher\, Verso Books. Additional reading selections will be provided in PDF format. \nFacilitated by Fred Murphy. Fred has led numerous study groups on ecosocialism\, science and technology\, the history of capitalism\, and Latin American politics at the Marxist Education Project since 2015. He studied and taught historical sociology at the New School for Social Research. \nThere is no fee for this eight-week online reading group – RSVP below if you wish to attend and we will send you the Zoom link. A suggested donation of $50 or whatever amount you can afford is welcome and appreciated.
URL:https://marxedproject.org/event/ai-versus-labor-luddism-and-beyond/
LOCATION:Online Event – Zoom Meeting
CATEGORIES:Accumulation of Capital,Alienation,Artificial Intelligence AI,automation,Capital Studies,Capital vs. Labor,Class,Class and Gender,Fall24,featured,Gender,History,Labor History,Labor Process,Multi-session Classes,Political Economy,Precarity,Reading Group,Science and Technology,Solidarity,Women
ATTACH;FMTTYPE=image/png:https://marxedproject.org/wp-content/uploads/2024/08/WebImageLarge.png
END:VEVENT
END:VCALENDAR