BEGIN:VCALENDAR
VERSION:2.0
PRODID:-//Marxist Education Project - ECPv6.15.20//NONSGML v1.0//EN
CALSCALE:GREGORIAN
METHOD:PUBLISH
X-WR-CALNAME:Marxist Education Project
X-ORIGINAL-URL:https://marxedproject.org
X-WR-CALDESC:Events for Marxist Education Project
REFRESH-INTERVAL;VALUE=DURATION:PT1H
X-Robots-Tag:noindex
X-PUBLISHED-TTL:PT1H
BEGIN:VTIMEZONE
TZID:America/Halifax
BEGIN:DAYLIGHT
TZOFFSETFROM:-0400
TZOFFSETTO:-0300
TZNAME:ADT
DTSTART:20210314T060000
END:DAYLIGHT
BEGIN:STANDARD
TZOFFSETFROM:-0300
TZOFFSETTO:-0400
TZNAME:AST
DTSTART:20211107T050000
END:STANDARD
BEGIN:DAYLIGHT
TZOFFSETFROM:-0400
TZOFFSETTO:-0300
TZNAME:ADT
DTSTART:20220313T060000
END:DAYLIGHT
BEGIN:STANDARD
TZOFFSETFROM:-0300
TZOFFSETTO:-0400
TZNAME:AST
DTSTART:20221106T050000
END:STANDARD
BEGIN:DAYLIGHT
TZOFFSETFROM:-0400
TZOFFSETTO:-0300
TZNAME:ADT
DTSTART:20230312T060000
END:DAYLIGHT
BEGIN:STANDARD
TZOFFSETFROM:-0300
TZOFFSETTO:-0400
TZNAME:AST
DTSTART:20231105T050000
END:STANDARD
END:VTIMEZONE
BEGIN:VEVENT
DTSTART;TZID=America/Halifax:20220619T163000
DTEND;TZID=America/Halifax:20220619T180000
DTSTAMP:20260420T132740
CREATED:20220419T204549Z
LAST-MODIFIED:20220521T054038Z
UID:10007147-1655656200-1655661600@marxedproject.org
SUMMARY:Hegel for Radicals: Part 1—History
DESCRIPTION:with Alex Steinberg\nAn 8-week course that will introduce what is living in Hegel for those who want to change the world. \nIt has often been said that that Marx turned Hegel on his head.  In this series we will explore the meaning of that phrase and its implications for those of us who are confronting problems of a world on fire.  The problems we face today in this epoch of the decay of capitalism\, imperialism\, war\, a global pandemic\, economic crisis\, the return of fascism\, climate change are unprecedented. \nWe will begin by introducing the very idea of History\, a unique contribution of Hegel to our understanding of the world.  We will read some key writings of Hegel from the Philosophy of History and the Phenomenology of Spirit and explain their significance for our time. \nAlex Steinberg is an independent scholar and was never affiliated with a university since his graduate school days. He has taught at alternative educational institutions and informally. Conference\, Presenter at First International Conference on Trotsky in Havana\, Cuba. Topics have included the Philosophy of Heidegger and Nazism\, Marxism and Humanism\, Hegel’s Philosophy of History. (2001-2020) \n  \n 
URL:https://marxedproject.org/event/hegel-for-radicals-part-1-history/2022-06-19/
LOCATION:NY\, United States
CATEGORIES:Capital Studies,Classes/Events,Critical Theory,Hegelianism,Philosophy of History,Seminars and Talks
ATTACH;FMTTYPE=image/png:https://marxedproject.org/wp-content/uploads/2022/04/SketchOfHegel.png
END:VEVENT
BEGIN:VEVENT
DTSTART;TZID=America/Halifax:20220612T163000
DTEND;TZID=America/Halifax:20220612T180000
DTSTAMP:20260420T132740
CREATED:20220419T204549Z
LAST-MODIFIED:20220521T054038Z
UID:10007146-1655051400-1655056800@marxedproject.org
SUMMARY:Hegel for Radicals: Part 1—History
DESCRIPTION:with Alex Steinberg\nAn 8-week course that will introduce what is living in Hegel for those who want to change the world. \nIt has often been said that that Marx turned Hegel on his head.  In this series we will explore the meaning of that phrase and its implications for those of us who are confronting problems of a world on fire.  The problems we face today in this epoch of the decay of capitalism\, imperialism\, war\, a global pandemic\, economic crisis\, the return of fascism\, climate change are unprecedented. \nWe will begin by introducing the very idea of History\, a unique contribution of Hegel to our understanding of the world.  We will read some key writings of Hegel from the Philosophy of History and the Phenomenology of Spirit and explain their significance for our time. \nAlex Steinberg is an independent scholar and was never affiliated with a university since his graduate school days. He has taught at alternative educational institutions and informally. Conference\, Presenter at First International Conference on Trotsky in Havana\, Cuba. Topics have included the Philosophy of Heidegger and Nazism\, Marxism and Humanism\, Hegel’s Philosophy of History. (2001-2020) \n  \n 
URL:https://marxedproject.org/event/hegel-for-radicals-part-1-history/2022-06-12/
LOCATION:NY\, United States
CATEGORIES:Capital Studies,Classes/Events,Critical Theory,Hegelianism,Philosophy of History,Seminars and Talks
ATTACH;FMTTYPE=image/png:https://marxedproject.org/wp-content/uploads/2022/04/SketchOfHegel.png
END:VEVENT
BEGIN:VEVENT
DTSTART;TZID=America/Halifax:20220605T163000
DTEND;TZID=America/Halifax:20220605T180000
DTSTAMP:20260420T132740
CREATED:20220419T204549Z
LAST-MODIFIED:20220521T054038Z
UID:10007145-1654446600-1654452000@marxedproject.org
SUMMARY:Hegel for Radicals: Part 1—History
DESCRIPTION:with Alex Steinberg\nAn 8-week course that will introduce what is living in Hegel for those who want to change the world. \nIt has often been said that that Marx turned Hegel on his head.  In this series we will explore the meaning of that phrase and its implications for those of us who are confronting problems of a world on fire.  The problems we face today in this epoch of the decay of capitalism\, imperialism\, war\, a global pandemic\, economic crisis\, the return of fascism\, climate change are unprecedented. \nWe will begin by introducing the very idea of History\, a unique contribution of Hegel to our understanding of the world.  We will read some key writings of Hegel from the Philosophy of History and the Phenomenology of Spirit and explain their significance for our time. \nAlex Steinberg is an independent scholar and was never affiliated with a university since his graduate school days. He has taught at alternative educational institutions and informally. Conference\, Presenter at First International Conference on Trotsky in Havana\, Cuba. Topics have included the Philosophy of Heidegger and Nazism\, Marxism and Humanism\, Hegel’s Philosophy of History. (2001-2020) \n  \n 
URL:https://marxedproject.org/event/hegel-for-radicals-part-1-history/2022-06-05/
LOCATION:NY\, United States
CATEGORIES:Capital Studies,Classes/Events,Critical Theory,Hegelianism,Philosophy of History,Seminars and Talks
ATTACH;FMTTYPE=image/png:https://marxedproject.org/wp-content/uploads/2022/04/SketchOfHegel.png
END:VEVENT
BEGIN:VEVENT
DTSTART;TZID=America/Halifax:20220529T163000
DTEND;TZID=America/Halifax:20220529T180000
DTSTAMP:20260420T132740
CREATED:20220419T204549Z
LAST-MODIFIED:20220521T054038Z
UID:10007144-1653841800-1653847200@marxedproject.org
SUMMARY:Hegel for Radicals: Part 1—History
DESCRIPTION:with Alex Steinberg\nAn 8-week course that will introduce what is living in Hegel for those who want to change the world. \nIt has often been said that that Marx turned Hegel on his head.  In this series we will explore the meaning of that phrase and its implications for those of us who are confronting problems of a world on fire.  The problems we face today in this epoch of the decay of capitalism\, imperialism\, war\, a global pandemic\, economic crisis\, the return of fascism\, climate change are unprecedented. \nWe will begin by introducing the very idea of History\, a unique contribution of Hegel to our understanding of the world.  We will read some key writings of Hegel from the Philosophy of History and the Phenomenology of Spirit and explain their significance for our time. \nAlex Steinberg is an independent scholar and was never affiliated with a university since his graduate school days. He has taught at alternative educational institutions and informally. Conference\, Presenter at First International Conference on Trotsky in Havana\, Cuba. Topics have included the Philosophy of Heidegger and Nazism\, Marxism and Humanism\, Hegel’s Philosophy of History. (2001-2020) \n  \n 
URL:https://marxedproject.org/event/hegel-for-radicals-part-1-history/2022-05-29/
LOCATION:NY\, United States
CATEGORIES:Capital Studies,Classes/Events,Critical Theory,Hegelianism,Philosophy of History,Seminars and Talks
ATTACH;FMTTYPE=image/png:https://marxedproject.org/wp-content/uploads/2022/04/SketchOfHegel.png
END:VEVENT
BEGIN:VEVENT
DTSTART;TZID=America/Halifax:20220522T163000
DTEND;TZID=America/Halifax:20220522T180000
DTSTAMP:20260420T132740
CREATED:20220419T204549Z
LAST-MODIFIED:20220521T054038Z
UID:10007143-1653237000-1653242400@marxedproject.org
SUMMARY:Hegel for Radicals: Part 1—History
DESCRIPTION:with Alex Steinberg\nAn 8-week course that will introduce what is living in Hegel for those who want to change the world. \nIt has often been said that that Marx turned Hegel on his head.  In this series we will explore the meaning of that phrase and its implications for those of us who are confronting problems of a world on fire.  The problems we face today in this epoch of the decay of capitalism\, imperialism\, war\, a global pandemic\, economic crisis\, the return of fascism\, climate change are unprecedented. \nWe will begin by introducing the very idea of History\, a unique contribution of Hegel to our understanding of the world.  We will read some key writings of Hegel from the Philosophy of History and the Phenomenology of Spirit and explain their significance for our time. \nAlex Steinberg is an independent scholar and was never affiliated with a university since his graduate school days. He has taught at alternative educational institutions and informally. Conference\, Presenter at First International Conference on Trotsky in Havana\, Cuba. Topics have included the Philosophy of Heidegger and Nazism\, Marxism and Humanism\, Hegel’s Philosophy of History. (2001-2020) \n  \n 
URL:https://marxedproject.org/event/hegel-for-radicals-part-1-history/2022-05-22/
LOCATION:NY\, United States
CATEGORIES:Capital Studies,Classes/Events,Critical Theory,Hegelianism,Philosophy of History,Seminars and Talks
ATTACH;FMTTYPE=image/png:https://marxedproject.org/wp-content/uploads/2022/04/SketchOfHegel.png
END:VEVENT
END:VCALENDAR