BEGIN:VCALENDAR
VERSION:2.0
PRODID:-//Marxist Education Project - ECPv6.15.20//NONSGML v1.0//EN
CALSCALE:GREGORIAN
METHOD:PUBLISH
X-ORIGINAL-URL:https://marxedproject.org
X-WR-CALDESC:Events for Marxist Education Project
REFRESH-INTERVAL;VALUE=DURATION:PT1H
X-Robots-Tag:noindex
X-PUBLISHED-TTL:PT1H
BEGIN:VTIMEZONE
TZID:America/New_York
BEGIN:DAYLIGHT
TZOFFSETFROM:-0500
TZOFFSETTO:-0400
TZNAME:EDT
DTSTART:20250309T070000
END:DAYLIGHT
BEGIN:STANDARD
TZOFFSETFROM:-0400
TZOFFSETTO:-0500
TZNAME:EST
DTSTART:20251102T060000
END:STANDARD
BEGIN:DAYLIGHT
TZOFFSETFROM:-0500
TZOFFSETTO:-0400
TZNAME:EDT
DTSTART:20260308T070000
END:DAYLIGHT
BEGIN:STANDARD
TZOFFSETFROM:-0400
TZOFFSETTO:-0500
TZNAME:EST
DTSTART:20261101T060000
END:STANDARD
BEGIN:DAYLIGHT
TZOFFSETFROM:-0500
TZOFFSETTO:-0400
TZNAME:EDT
DTSTART:20270314T070000
END:DAYLIGHT
BEGIN:STANDARD
TZOFFSETFROM:-0400
TZOFFSETTO:-0500
TZNAME:EST
DTSTART:20271107T060000
END:STANDARD
END:VTIMEZONE
BEGIN:VEVENT
DTSTART;TZID=America/New_York:20260119T183000
DTEND;TZID=America/New_York:20260119T200000
DTSTAMP:20260424T115234
CREATED:20251025T173441Z
LAST-MODIFIED:20260113T150139Z
UID:10008379-1768847400-1768852800@marxedproject.org
SUMMARY:Slavery and Capitalism: A Reading Group
DESCRIPTION:Join us for a nine-session reading group on David McNally’s recently published Slavery and Capitalism: A New Marxist History. McNally’s book presents a systematic Marxist account of the capitalist character of Atlantic slavery to support the provocative claim that enslaved labor in the plantation system is a form of capitalist commodity production. Weaving together history\, political economy\, and radical abolitionism\, McNally demonstrates that plantation slaves formed a modern working class and highlights the self-activity of enslaved people fighting for their freedom. He reframes their resistance as labor struggles over production and reproduction\, with significant implications for US and Atlantic history and for understanding the roots of racial capitalism. \nFacilitated by Fred Murphy. Over the past decade\, Fred has led numerous MEP study groups on political economy\, ecosocialism\, science and technology\, and Latin American politics. He studied and taught historical sociology at the New School for Social Research. \nEnrollment for this study group is now closed.
URL:https://marxedproject.org/event/slavery-and-capitalism-a-reading-group/
LOCATION:Online Event – Zoom Meeting
CATEGORIES:Accumulation of Capital,African American History,Anti-colonialism,British Imperialism,Capital Studies,Caribbean Studies,Civil War,Class,Classes/Events,Colonialism,Du Bois,Emancipation,Fall 25,historical materialism,History,Intro to Marxism,Marx,Marxist Method,Multi-session Classes,Political Economy,Race and Class,Slavery,Social Reproduction,US History
ATTACH;FMTTYPE=image/png:https://marxedproject.org/wp-content/uploads/2025/10/McNallyGroup_WebBanner.png
END:VEVENT
END:VCALENDAR